BEGIN:VCALENDAR
VERSION:2.0
PRODID:-//Energismarta Värmland - ECPv6.15.20//NONSGML v1.0//EN
CALSCALE:GREGORIAN
METHOD:PUBLISH
X-ORIGINAL-URL:https://www.energismartavarmland.se
X-WR-CALDESC:Händelser för Energismarta Värmland
REFRESH-INTERVAL;VALUE=DURATION:PT1H
X-Robots-Tag:noindex
X-PUBLISHED-TTL:PT1H
BEGIN:VTIMEZONE
TZID:Europe/Stockholm
BEGIN:DAYLIGHT
TZOFFSETFROM:+0100
TZOFFSETTO:+0200
TZNAME:CEST
DTSTART:20250330T010000
END:DAYLIGHT
BEGIN:STANDARD
TZOFFSETFROM:+0200
TZOFFSETTO:+0100
TZNAME:CET
DTSTART:20251026T010000
END:STANDARD
BEGIN:DAYLIGHT
TZOFFSETFROM:+0100
TZOFFSETTO:+0200
TZNAME:CEST
DTSTART:20260329T010000
END:DAYLIGHT
BEGIN:STANDARD
TZOFFSETFROM:+0200
TZOFFSETTO:+0100
TZNAME:CET
DTSTART:20261025T010000
END:STANDARD
BEGIN:DAYLIGHT
TZOFFSETFROM:+0100
TZOFFSETTO:+0200
TZNAME:CEST
DTSTART:20270328T010000
END:DAYLIGHT
BEGIN:STANDARD
TZOFFSETFROM:+0200
TZOFFSETTO:+0100
TZNAME:CET
DTSTART:20271031T010000
END:STANDARD
END:VTIMEZONE
BEGIN:VEVENT
DTSTART;TZID=Europe/Stockholm:20260415T120000
DTEND;TZID=Europe/Stockholm:20260415T130000
DTSTAMP:20260422T220519
CREATED:20260319T093309Z
LAST-MODIFIED:20260319T093450Z
UID:7444-1776254400-1776258000@www.energismartavarmland.se
SUMMARY:Flexibilitet och abonnemangsoptimering i lokala elnät
DESCRIPTION:Hur kan flexibilitet bidra till att frigöra kapacitet i elnätet – och samtidigt minska kostnader för nätägare och potentiellt även för elanvändare? I detta webbinarium presenterar vi erfarenheter och resultat från Arvika Flex\, ett lokalt case inom projektet LOKEN – Lokal Energiledning Värmland. Arbetet har undersökt hur flexibilitet kan användas för att hantera effektutmaningar i mindre elnät och hur lokala aktörer kan samarbeta för att använda elnätet mer effektivt. \nLunchwebbinarium: Flexibilitet och abonnemangsoptimering i lokala elnät | Glava Energy Center
URL:https://www.energismartavarmland.se/event/flexibilitet-och-abonnemangsoptimering-i-lokala-elnat/
LOCATION:Teams
CATEGORIES:Webbinarium
END:VEVENT
END:VCALENDAR