BEGIN:VCALENDAR
VERSION:2.0
PRODID:-//Energismarta Värmland - ECPv6.15.20//NONSGML v1.0//EN
CALSCALE:GREGORIAN
METHOD:PUBLISH
X-WR-CALNAME:Energismarta Värmland
X-ORIGINAL-URL:https://www.energismartavarmland.se
X-WR-CALDESC:Händelser för Energismarta Värmland
REFRESH-INTERVAL;VALUE=DURATION:PT1H
X-Robots-Tag:noindex
X-PUBLISHED-TTL:PT1H
BEGIN:VTIMEZONE
TZID:Europe/Stockholm
BEGIN:DAYLIGHT
TZOFFSETFROM:+0100
TZOFFSETTO:+0200
TZNAME:CEST
DTSTART:20250330T010000
END:DAYLIGHT
BEGIN:STANDARD
TZOFFSETFROM:+0200
TZOFFSETTO:+0100
TZNAME:CET
DTSTART:20251026T010000
END:STANDARD
BEGIN:DAYLIGHT
TZOFFSETFROM:+0100
TZOFFSETTO:+0200
TZNAME:CEST
DTSTART:20260329T010000
END:DAYLIGHT
BEGIN:STANDARD
TZOFFSETFROM:+0200
TZOFFSETTO:+0100
TZNAME:CET
DTSTART:20261025T010000
END:STANDARD
BEGIN:DAYLIGHT
TZOFFSETFROM:+0100
TZOFFSETTO:+0200
TZNAME:CEST
DTSTART:20270328T010000
END:DAYLIGHT
BEGIN:STANDARD
TZOFFSETFROM:+0200
TZOFFSETTO:+0100
TZNAME:CET
DTSTART:20271031T010000
END:STANDARD
END:VTIMEZONE
BEGIN:VEVENT
DTSTART;TZID=Europe/Stockholm:20260424T130000
DTEND;TZID=Europe/Stockholm:20260424T143000
DTSTAMP:20260422T220437
CREATED:20260317T095327Z
LAST-MODIFIED:20260317T095327Z
UID:7436-1777035600-1777041000@www.energismartavarmland.se
SUMMARY:Drivmedelsberedskap för kommunal reservkraftsförmåga
DESCRIPTION:Temaföreläsning där senior rådgivare Mikael Toll ger kommuner praktisk kunskap i hur man ska tänka kring drivmedelsförsörjning kopplat till reservkraft. \nDrivmedelsberedskap för kommunal reservkraftsförmåga
URL:https://www.energismartavarmland.se/event/drivmedelsberedskap-for-kommunal-reservkraftsformaga/
LOCATION:Teams
CATEGORIES:Webbinarium
END:VEVENT
END:VCALENDAR